BEGIN:VCALENDAR
VERSION:2.0
PRODID:-//Plone.org//NONSGML plone.app.event//EN
X-WR-TIMEZONE:Brazil/East
BEGIN:VEVENT
SUMMARY:1º Ano do Site
DTSTART;TZID=Brazil/East;VALUE=DATE-TIME:20181127T000000
DTEND;TZID=Brazil/East;VALUE=DATE-TIME:20181127T235959
DTSTAMP;VALUE=DATE-TIME:20260419T201035Z
UID:f58b336ee890485bb3234b817e256560
CREATED;VALUE=DATE-TIME:20171127T115803Z
DESCRIPTION:Aniversário de primeiro ano do portal desta Casa Legislativa.
  (este evento é um conteúdo de exemplo e pode ser removido)
LAST-MODIFIED;VALUE=DATE-TIME:20171127T115820Z
URL:https://www.novohorizontedooeste.ro.leg.br/institucional/eventos/1o-an
 o-do-site
END:VEVENT
BEGIN:VTIMEZONE
TZID:Brazil/East
X-LIC-LOCATION:Brazil/East
BEGIN:DAYLIGHT
DTSTART;VALUE=DATE-TIME:20181021T010000
TZNAME:BRST
TZOFFSETFROM:-0300
TZOFFSETTO:-0200
END:DAYLIGHT
END:VTIMEZONE
END:VCALENDAR
