BEGIN:VCALENDAR
VERSION:2.0
PRODID:-//Plone.org//NONSGML plone.app.event//EN
X-WR-TIMEZONE:Brazil/East
BEGIN:VEVENT
SUMMARY:Sessão Ordinária De 2019 
DTSTART;TZID=Brazil/East;VALUE=DATE-TIME:20191202T190000
DTEND;TZID=Brazil/East;VALUE=DATE-TIME:20191202T210000
DTSTAMP;VALUE=DATE-TIME:20260419T191617Z
UID:4626919452754b97adba5c29a2d4b955@novohorizontedooeste.ro.leg.br
ATTENDEE;CN="vereardes do município e";ROLE=REQ-PARTICIPANT:vereardes do 
 município e
ATTENDEE;CN="aberto ao publico";ROLE=REQ-PARTICIPANT:aberto ao publico
CONTACT:CAMARÁ MUNICIPAL\, 6934352131\, cmnovohorizonte@hotmail.com
CREATED;VALUE=DATE-TIME:20191120T145814Z
DESCRIPTION:Trigésima Sétima Sessão Ordinária do segundo período legi
 slativo de 2019 
LAST-MODIFIED;VALUE=DATE-TIME:20191120T145925Z
LOCATION:CAMARÁ MUNICIPAL
URL:https://www.novohorizontedooeste.ro.leg.br/institucional/eventos/sessa
 o-ordinaria-de-2019-1
END:VEVENT
BEGIN:VTIMEZONE
TZID:Brazil/East
X-LIC-LOCATION:Brazil/East
BEGIN:DAYLIGHT
DTSTART;VALUE=DATE-TIME:20191020T010000
TZNAME:BRST
TZOFFSETFROM:-0300
TZOFFSETTO:-0200
END:DAYLIGHT
END:VTIMEZONE
END:VCALENDAR
